BEGIN:VCALENDAR
VERSION:2.0
PRODID:-//Word &amp; Deed - ECPv6.15.20//NONSGML v1.0//EN
CALSCALE:GREGORIAN
METHOD:PUBLISH
X-WR-CALNAME:Word &amp; Deed
X-ORIGINAL-URL:https://wordanddeed.org
X-WR-CALDESC:Events for Word &amp; Deed
REFRESH-INTERVAL;VALUE=DURATION:PT1H
X-Robots-Tag:noindex
X-PUBLISHED-TTL:PT1H
BEGIN:VTIMEZONE
TZID:America/Toronto
BEGIN:DAYLIGHT
TZOFFSETFROM:-0500
TZOFFSETTO:-0400
TZNAME:EDT
DTSTART:20250309T070000
END:DAYLIGHT
BEGIN:STANDARD
TZOFFSETFROM:-0400
TZOFFSETTO:-0500
TZNAME:EST
DTSTART:20251102T060000
END:STANDARD
BEGIN:DAYLIGHT
TZOFFSETFROM:-0500
TZOFFSETTO:-0400
TZNAME:EDT
DTSTART:20260308T070000
END:DAYLIGHT
BEGIN:STANDARD
TZOFFSETFROM:-0400
TZOFFSETTO:-0500
TZNAME:EST
DTSTART:20261101T060000
END:STANDARD
BEGIN:DAYLIGHT
TZOFFSETFROM:-0500
TZOFFSETTO:-0400
TZNAME:EDT
DTSTART:20270314T070000
END:DAYLIGHT
BEGIN:STANDARD
TZOFFSETFROM:-0400
TZOFFSETTO:-0500
TZNAME:EST
DTSTART:20271107T060000
END:STANDARD
END:VTIMEZONE
BEGIN:VTIMEZONE
TZID:America/Edmonton
BEGIN:DAYLIGHT
TZOFFSETFROM:-0700
TZOFFSETTO:-0600
TZNAME:MDT
DTSTART:20250309T090000
END:DAYLIGHT
BEGIN:STANDARD
TZOFFSETFROM:-0600
TZOFFSETTO:-0700
TZNAME:MST
DTSTART:20251102T080000
END:STANDARD
BEGIN:DAYLIGHT
TZOFFSETFROM:-0700
TZOFFSETTO:-0600
TZNAME:MDT
DTSTART:20260308T090000
END:DAYLIGHT
BEGIN:STANDARD
TZOFFSETFROM:-0600
TZOFFSETTO:-0700
TZNAME:MST
DTSTART:20261101T080000
END:STANDARD
BEGIN:DAYLIGHT
TZOFFSETFROM:-0700
TZOFFSETTO:-0600
TZNAME:MDT
DTSTART:20270314T090000
END:DAYLIGHT
BEGIN:STANDARD
TZOFFSETFROM:-0600
TZOFFSETTO:-0700
TZNAME:MST
DTSTART:20271107T080000
END:STANDARD
END:VTIMEZONE
BEGIN:VEVENT
DTSTART;VALUE=DATE:20260401
DTEND;VALUE=DATE:20260501
DTSTAMP:20260420T081026
CREATED:20260303T181218Z
LAST-MODIFIED:20260305T190314Z
UID:10000220-1775001600-1777593599@wordanddeed.org
SUMMARY:Hunger Awareness Month
DESCRIPTION: \nRaise support for the Nutrition Program in Colombia! Encourage your friends\, classmates\, or your whole school to participate in a 24-hour Hunger Awareness Campaign with students all over North America! \nRaise funds for a nutrition program in Colombia and then take the challenge to not eat for 24 hours to be reminded of students who have to skip meals every day in Colombia. \nClick here to download the Hunger Awareness Project Information Booklet. \nSponsor sheets are available by clicking these links: Canada; USA \nLet us know that you are participating by emailing office@wordanddeed.org \nDONATE TO THE HUNGER AWARENESS CAMPAIGNHere are some photos of students from Colombia enjoying a nutritious snack:
URL:https://wordanddeed.org/event/hunger-awareness-month-3/
LOCATION:Alberta
ATTACH;FMTTYPE=image/png:https://wordanddeed.org/wp-content/uploads/2023/01/Website-Event-Banner-HAC.png
END:VEVENT
BEGIN:VEVENT
DTSTART;TZID=America/Edmonton:20260525T193000
DTEND;TZID=America/Edmonton:20260525T213000
DTSTAMP:20260420T081026
CREATED:20260409T130855Z
LAST-MODIFIED:20260409T130855Z
UID:10000226-1779737400-1779744600@wordanddeed.org
SUMMARY:Business Group: Southern Alberta
DESCRIPTION:What is a Word & Deed Business Group? It is a group of local people who have a desire to make a major impact in the lives of people\, both spiritually and physically. This is done through supporting specific Word & Deed projects around the world. You don’t have to own a business to be a part of this group! \nWhat is involved in this meeting? Once a year\, there will be a local meeting with a Word & Deed representative. They will provide an update on the project(s) you had the opportunity to support. We will also discuss what project(s) you will support in the coming year.
URL:https://wordanddeed.org/event/business-group-southern-alberta-4/
LOCATION:The Car Museum\, 3134 2nd Ave N\, Lethbridge\, AB\, Canada
ATTACH;FMTTYPE=image/jpeg:https://wordanddeed.org/wp-content/uploads/2022/05/WordandDeedLogo-scaled.jpg
END:VEVENT
BEGIN:VEVENT
DTSTART;TZID=America/Edmonton:20260526T180000
DTEND;TZID=America/Edmonton:20260526T203000
DTSTAMP:20260420T081026
CREATED:20260409T132126Z
LAST-MODIFIED:20260409T132126Z
UID:10000227-1779818400-1779827400@wordanddeed.org
SUMMARY:Business Group: Calgary\, AB
DESCRIPTION:What is a Word & Deed Business Group? It is a group of local people who have a desire to make a major impact in the lives of people\, both spiritually and physically. This is done through supporting specific Word & Deed projects around the world. You don’t have to own a business to be a part of this group! \nWhat is involved in this meeting? Once a year\, there will be a local meeting with a Word & Deed representative. They will provide an update on the project(s) you had the opportunity to support. We will also discuss what project(s) you will support in the coming year.
URL:https://wordanddeed.org/event/business-group-calgary-ab-4/
LOCATION:Bethel United Reformed Church\, 730 101 Street SW\, Calgary\, Alberta\, Canada
ATTACH;FMTTYPE=image/jpeg:https://wordanddeed.org/wp-content/uploads/2022/05/WordandDeedLogo-scaled.jpg
END:VEVENT
BEGIN:VEVENT
DTSTART;TZID=America/Edmonton:20260527T200000
DTEND;TZID=America/Edmonton:20260527T220000
DTSTAMP:20260420T081026
CREATED:20260409T132237Z
LAST-MODIFIED:20260409T132237Z
UID:10000228-1779912000-1779919200@wordanddeed.org
SUMMARY:Business Group: Neerlandia\, AB
DESCRIPTION:What is a Word & Deed Business Group? It is a group of local people who have a desire to make a major impact in the lives of people\, both spiritually and physically. This is done through supporting specific Word & Deed projects around the world. You don’t have to own a business to be a part of this group! \nWhat is involved in this meeting? Once a year\, there will be a local meeting with a Word & Deed representative. They will provide an update on the project(s) you had the opportunity to support. We will also discuss what project(s) you will support in the coming year.
URL:https://wordanddeed.org/event/business-group-neerlandia-ab-4/
LOCATION:Hope Canadian Reformed Church\, 4705 - 50 Avenue\, Neerlandia\, Alberta\, T0G 1R0\, Canada
ATTACH;FMTTYPE=image/jpeg:https://wordanddeed.org/wp-content/uploads/2022/05/WordandDeedLogo-scaled.jpg
END:VEVENT
BEGIN:VEVENT
DTSTART;TZID=America/Edmonton:20260528T070000
DTEND;TZID=America/Edmonton:20260528T090000
DTSTAMP:20260420T081026
CREATED:20260409T132415Z
LAST-MODIFIED:20260409T132415Z
UID:10000229-1779951600-1779958800@wordanddeed.org
SUMMARY:Business Group: Edmonton\, AB
DESCRIPTION:What is a Word & Deed Business Group? It is a group of local people who have a desire to make a major impact in the lives of people\, both spiritually and physically. This is done through supporting specific Word & Deed projects around the world. You don’t have to own a business to be a part of this group! \nWhat is involved in this meeting? Once a year\, there will be a local meeting with a Word & Deed representative. They will provide an update on the project(s) you had the opportunity to support. We will also discuss what project(s) you will support in the coming year.
URL:https://wordanddeed.org/event/business-group-edmonton-ab-4/
LOCATION:Immanuel Canadian Reformed Church\, 5280 Edgemont Blvd NW\, Edmonton\, AB\, Canada
ATTACH;FMTTYPE=image/jpeg:https://wordanddeed.org/wp-content/uploads/2022/05/WordandDeedLogo-scaled.jpg
END:VEVENT
BEGIN:VEVENT
DTSTART;TZID=America/Edmonton:20260528T193000
DTEND;TZID=America/Edmonton:20260528T213000
DTSTAMP:20260420T081026
CREATED:20260409T132941Z
LAST-MODIFIED:20260409T132941Z
UID:10000232-1779996600-1780003800@wordanddeed.org
SUMMARY:Business Group: Central Alberta
DESCRIPTION:What is a Word & Deed Business Group? It is a group of local people who have a desire to make a major impact in the lives of people\, both spiritually and physically. This is done through supporting specific Word & Deed projects around the world. You don’t have to own a business to be a part of this group! \nWhat is involved in this meeting? Once a year\, there will be a local meeting with a Word & Deed representative. They will provide an update on the project(s) you had the opportunity to support. We will also discuss what project(s) you will support in the coming year.
URL:https://wordanddeed.org/event/business-group-central-alberta-4/
LOCATION:Ponoka United Reformed Church\, 261030 Twp Rd 422\, Ponoka\, Alberta\, Canada
ATTACH;FMTTYPE=image/jpeg:https://wordanddeed.org/wp-content/uploads/2022/05/WordandDeedLogo-scaled.jpg
END:VEVENT
BEGIN:VEVENT
DTSTART;TZID=America/Edmonton:20260602T120000
DTEND;TZID=America/Edmonton:20260602T140000
DTSTAMP:20260420T081026
CREATED:20260409T132714Z
LAST-MODIFIED:20260409T132714Z
UID:10000230-1780401600-1780408800@wordanddeed.org
SUMMARY:Business Group: Chilliwack\, BC
DESCRIPTION:What is a Word & Deed Business Group? It is a group of local people who have a desire to make a major impact in the lives of people\, both spiritually and physically. This is done through supporting specific Word & Deed projects around the world. You don’t have to own a business to be a part of this group! \nWhat is involved in this meeting? Once a year\, there will be a local meeting with a Word & Deed representative. They will provide an update on the project(s) you had the opportunity to support. We will also discuss what project(s) you will support in the coming year.
URL:https://wordanddeed.org/event/business-group-chilliwack-bc-4/
LOCATION:Chilliwack Free Reformed Church\, 45471 Yale Rd.\, Chilliwack\, British Colombia\, Canada
ATTACH;FMTTYPE=image/jpeg:https://wordanddeed.org/wp-content/uploads/2022/05/WordandDeedLogo-scaled.jpg
END:VEVENT
BEGIN:VEVENT
DTSTART;TZID=America/Edmonton:20260602T173000
DTEND;TZID=America/Edmonton:20260602T200000
DTSTAMP:20260420T081026
CREATED:20260409T132751Z
LAST-MODIFIED:20260409T132751Z
UID:10000231-1780421400-1780430400@wordanddeed.org
SUMMARY:Business Group: Langley\, British Colombia
DESCRIPTION:What is a Word & Deed Business Group? It is a group of local people who have a desire to make a major impact in the lives of people\, both spiritually and physically. This is done through supporting specific Word & Deed projects around the world. You don’t have to own a business to be a part of this group! \nWhat is involved in this meeting? Once a year\, there will be a local meeting with a Word & Deed representative. They will provide an update on the project(s) you had the opportunity to support. We will also discuss what project(s) you will support in the coming year.
URL:https://wordanddeed.org/event/business-group-langley-british-colombia-3/
LOCATION:Ricky’s All Day Grill – Murrayville\, 22314 Fraser Hwy\, Langley\, British Colombia\, V3A 8M6\, Canada
ATTACH;FMTTYPE=image/jpeg:https://wordanddeed.org/wp-content/uploads/2022/05/WordandDeedLogo-scaled.jpg
END:VEVENT
BEGIN:VEVENT
DTSTART;VALUE=DATE:20260606
DTEND;VALUE=DATE:20260607
DTSTAMP:20260420T081026
CREATED:20260303T191239Z
LAST-MODIFIED:20260303T191239Z
UID:10000221-1780704000-1780790399@wordanddeed.org
SUMMARY:Coast to Coast Bike-a-thon
DESCRIPTION:With the Lord’s blessing\, over 400 riders at 30 locations have participated in the Annual Coast to Coast Bike-a-thon over the last six years and have raised over $860\,000 CAD/ $645\,000 USD for our partners in South Africa! \nJoin us again this year either independently or with a local team to help us reach our goal of $75\,000 CAD / $53\,000 USD for the Nakekela HIV/AIDS Clinic and the Musawenkosi Christian Academy (MCA) in South Africa. These projects help alleviate\, educate\, and care for a community struggling with the impact of HIV / AIDS physically and spiritually. Thank you for participating and making a world of difference. \nThis year\, we’re planning to bike on Saturday\, June 6. In the past\, teams have biked as little as 10 km\, all the way up to 50 km+ in their local areas. \nCLICK HERE FOR MORE INFORMATION AND TO REGISTER
URL:https://wordanddeed.org/event/coast-to-coast-bike-a-thon-4/
LOCATION:Alberta
ATTACH;FMTTYPE=image/jpeg:https://wordanddeed.org/wp-content/uploads/2025/03/BAT-header.jpg
END:VEVENT
END:VCALENDAR